4044.9874422751423
0.0
0.0
-4042.9765079591934
-4332767.2426372748
3784916.7148105861
